BEGIN:VCALENDAR
VERSION:2.0
METHOD:PUBLISH
PRODID:-//Accessible Web Design//My Calendar//http://www.joedolson.com//v//EN';
BEGIN:VEVENT
UID:48-7
LOCATION:Days Inn St. Louis - Lindbergh Boulevard 3654 South Lindbergh Boulevard I-44 Exit 277B St. Louis MO 63127
SUMMARY:National Puppy Day
DTSTAMP:20270324
ORGANIZER;CN=MOM:MAILTO:marlyse@sonic.net
DTSTART:20270324
DTEND:20270325
CATEGORIES:Holiday Calendar
URL;VALUE=URI:http://elongatedcoins.org/mc-events/national-puppy-day/?mc_id=48
DESCRIPTION:It's National Puppy Day today. Go out and make a puppy happy - be it yours or one who's still waiting to find a new home. ??
X-FUNAMBOL-ALLDAY: 1
X-MICROSOFT-CDO-ALLDAYEVENT: TRUE

END:VEVENT
END:VCALENDAR