BEGIN:VCALENDAR
VERSION:2.0
METHOD:PUBLISH
PRODID:-//Accessible Web Design//My Calendar//http://www.joedolson.com//v//EN';
BEGIN:VEVENT
UID:384-28
LOCATION:Days Inn St. Louis - Lindbergh Boulevard 3654 South Lindbergh Boulevard I-44 Exit 277B St. Louis MO 63127
SUMMARY:The Ed Sullivan Show
DTSTAMP:20260606
ORGANIZER;CN=MOM:MAILTO:marlyse@sonic.net
DTSTART:20260606
DTEND:20260607
CATEGORIES:Holiday Calendar
URL;VALUE=URI:http://elongatedcoins.org/mc-events/the-ed-sullivan-show/?mc_id=384
DESCRIPTION:This Day in History: The Ed Sullivan Show airs for the very last time Sunday nights, 8:00 pm, CBS. Ask almost any American born in the 1950s or earlier what television program ran in that timeslot on that network, and they’ll probably know the answer: The Ed Sullivan Show. For more than two decades, Sullivan’s&hellip;
X-FUNAMBOL-ALLDAY: 1
X-MICROSOFT-CDO-ALLDAYEVENT: TRUE

END:VEVENT
END:VCALENDAR