BEGIN:VCALENDAR
VERSION:2.0
METHOD:PUBLISH
PRODID:-//Accessible Web Design//My Calendar//http://www.joedolson.com//v//EN';
BEGIN:VEVENT
UID:363-26
LOCATION:Days Inn St. Louis - Lindbergh Boulevard 3654 South Lindbergh Boulevard I-44 Exit 277B St. Louis MO 63127
SUMMARY:Best Friends Day
DTSTAMP:20260608
ORGANIZER;CN=MOM:MAILTO:marlyse@sonic.net
DTSTART:20260608
DTEND:20260609
CATEGORIES:Holiday Calendar
URL;VALUE=URI:http://elongatedcoins.org/mc-events/best-friends-day/?mc_id=363
DESCRIPTION:National Best Friends Day
X-FUNAMBOL-ALLDAY: 1
X-MICROSOFT-CDO-ALLDAYEVENT: TRUE

END:VEVENT
END:VCALENDAR