BEGIN:VCALENDAR
VERSION:2.0
METHOD:PUBLISH
PRODID:-//Accessible Web Design//My Calendar//http://www.joedolson.com//v//EN';
BEGIN:VEVENT
UID:342-25
LOCATION:Days Inn St. Louis - Lindbergh Boulevard 3654 South Lindbergh Boulevard I-44 Exit 277B St. Louis MO 63127
SUMMARY:E.T. Released
DTSTAMP:20260611
ORGANIZER;CN=MOM:MAILTO:marlyse@sonic.net
DTSTART:20260611
DTEND:20260612
CATEGORIES:Holiday Calendar
URL;VALUE=URI:http://elongatedcoins.org/mc-events/e-t-released/?mc_id=342
DESCRIPTION:E.T.: The Extra-Terrestrial Released
X-FUNAMBOL-ALLDAY: 1
X-MICROSOFT-CDO-ALLDAYEVENT: TRUE

END:VEVENT
END:VCALENDAR