BEGIN:VCALENDAR
VERSION:2.0
METHOD:PUBLISH
PRODID:-//Accessible Web Design//My Calendar//http://www.joedolson.com//v//EN';
BEGIN:VEVENT
UID:33-2
LOCATION:Days Inn St. Louis - Lindbergh Boulevard 3654 South Lindbergh Boulevard I-44 Exit 277B St. Louis MO 63127
SUMMARY:ANA National Money Show, Portland, OR
DTSTAMP:20150305T100000
ORGANIZER;CN=MOM:MAILTO:marlyse@sonic.net
DTSTART:20150305T100000
DTEND:20150310T160000
CATEGORIES:General
URL;VALUE=URI:http://elongatedcoins.org/mc-events/ana-national-money-show-portland-or/?mc_id=33
DESCRIPTION:On March 5-10, 2015, the ANA National Money Show will be happening at the Oregon Convention Center in Portland, Oregon–and The Elongated Collectors (TEC) will be there!
END:VEVENT
END:VCALENDAR