BEGIN:VCALENDAR
VERSION:2.0
METHOD:PUBLISH
PRODID:-//Accessible Web Design//My Calendar//http://www.joedolson.com//v//EN';
BEGIN:VEVENT
UID:237-17
LOCATION:Days Inn St. Louis - Lindbergh Boulevard 3654 South Lindbergh Boulevard I-44 Exit 277B St. Louis MO 63127
SUMMARY:Mother's Day
DTSTAMP:20260514
ORGANIZER;CN=MOM:MAILTO:marlyse@sonic.net
DTSTART:20260514
DTEND:20260515
CATEGORIES:Holiday Calendar
URL;VALUE=URI:http://elongatedcoins.org/mc-events/mothers-day/?mc_id=237
DESCRIPTION:Mother's Day [arve url="http://elongatedcoins.org/wp-content/uploads/2017/05/happy_mothers_day.mov" mode="lazyload" promote_link="no" thumbnail="7579" title="Happy Mother's Day!" description="Happy Mother's Day!" upload_date="2017-05-24" controlslist="noremoteplayback" hide_title="no" grow="yes" play_icon_style="youtube" /]
X-FUNAMBOL-ALLDAY: 1
X-MICROSOFT-CDO-ALLDAYEVENT: TRUE

END:VEVENT
END:VCALENDAR