BEGIN:VCALENDAR
VERSION:2.0
METHOD:PUBLISH
PRODID:-//Accessible Web Design//My Calendar//http://www.joedolson.com//v//EN';
BEGIN:VEVENT
UID:216-15
LOCATION:Days Inn St. Louis - Lindbergh Boulevard 3654 South Lindbergh Boulevard I-44 Exit 277B St. Louis MO 63127
SUMMARY:Be A Millionaire Day
DTSTAMP:20260520
ORGANIZER;CN=MOM:MAILTO:marlyse@sonic.net
DTSTART:20260520
DTEND:20260521
CATEGORIES:General
URL;VALUE=URI:http://elongatedcoins.org/mc-events/be-a-millionaire-day/?mc_id=216
DESCRIPTION:National Be A Millionaire Day
X-FUNAMBOL-ALLDAY: 1
X-MICROSOFT-CDO-ALLDAYEVENT: TRUE

END:VEVENT
END:VCALENDAR