BEGIN:VCALENDAR
VERSION:2.0
METHOD:PUBLISH
PRODID:-//Accessible Web Design//My Calendar//http://www.joedolson.com//v//EN';
BEGIN:VEVENT
UID:406-31
LOCATION:Days Inn St. Louis - Lindbergh Boulevard 3654 South Lindbergh Boulevard I-44 Exit 277B St. Louis MO 63127
SUMMARY:Angelina Jolie's Birthday
DTSTAMP:20260604
ORGANIZER;CN=MOM:MAILTO:marlyse@sonic.net
DTSTART:20260604
DTEND:20260605
CATEGORIES:Holiday Calendar
URL;VALUE=URI:http://elongatedcoins.org/mc-events/angelina-jolies-birthday-2/?mc_id=406
DESCRIPTION:On this day in 1975, the Academy Award-winning actress Angelina Jolie (Voight) is born in Los Angeles, California. Jolie’s father, the actor Jon Voight, had been nominated for a Best Actor Oscar for Midnight Cowboy (1969); he won the award for Coming Home (1978). Her mother, Marcheline Bertrand, was also an actress; the couple divorced&hellip;
X-FUNAMBOL-ALLDAY: 1
X-MICROSOFT-CDO-ALLDAYEVENT: TRUE

END:VEVENT
END:VCALENDAR