BEGIN:VCALENDAR
VERSION:2.0
METHOD:PUBLISH
PRODID:-//Accessible Web Design//My Calendar//http://www.joedolson.com//v//EN';
BEGIN:VEVENT
UID:321-23
LOCATION:Days Inn St. Louis - Lindbergh Boulevard 3654 South Lindbergh Boulevard I-44 Exit 277B St. Louis MO 63127
SUMMARY:Lobster Day
DTSTAMP:20260615
ORGANIZER;CN=MOM:MAILTO:marlyse@sonic.net
DTSTART:20260615
DTEND:20260616
CATEGORIES:General
URL;VALUE=URI:http://elongatedcoins.org/mc-events/lobster-day/?mc_id=321
DESCRIPTION:National Lobster Day
X-FUNAMBOL-ALLDAY: 1
X-MICROSOFT-CDO-ALLDAYEVENT: TRUE

END:VEVENT
END:VCALENDAR