BEGIN:VCALENDAR
VERSION:2.0
METHOD:PUBLISH
PRODID:-//Accessible Web Design//My Calendar//http://www.joedolson.com//v//EN';
BEGIN:VEVENT
UID:12-1
LOCATION:Days Inn St. Louis - Lindbergh Boulevard 3654 South Lindbergh Boulevard I-44 Exit 277B St. Louis MO 63127
SUMMARY:Day of the Dead
DTSTAMP:20141031T000000
ORGANIZER;CN=MOM:MAILTO:marlyse@sonic.net
DTSTART:20141031T000000
DTEND:20141102T000000
CATEGORIES:General
URL;VALUE=URI:http://elongatedcoins.org/mc-events/day-of-the-dead-2/?mc_id=12
DESCRIPTION:Dia de Los Muertos
END:VEVENT
END:VCALENDAR